BEGIN:VCALENDAR
VERSION:2.0
PRODID:-//912club.fr - ECPv6.2.6//NONSGML v1.0//EN
CALSCALE:GREGORIAN
METHOD:PUBLISH
X-ORIGINAL-URL:https://912club.fr
X-WR-CALDESC:évènements pour 912club.fr
REFRESH-INTERVAL;VALUE=DURATION:PT1H
X-Robots-Tag:noindex
X-PUBLISHED-TTL:PT1H
BEGIN:VTIMEZONE
TZID:Europe/Paris
BEGIN:DAYLIGHT
TZOFFSETFROM:+0100
TZOFFSETTO:+0200
TZNAME:CEST
DTSTART:20230326T010000
END:DAYLIGHT
BEGIN:STANDARD
TZOFFSETFROM:+0200
TZOFFSETTO:+0100
TZNAME:CET
DTSTART:20231029T010000
END:STANDARD
END:VTIMEZONE
BEGIN:VEVENT
DTSTART;TZID=Europe/Paris:20230902T080000
DTEND;TZID=Europe/Paris:20230903T170000
DTSTAMP:20260422T170102
CREATED:20230303T221302Z
LAST-MODIFIED:20230303T221302Z
UID:28964-1693641600-1693760400@912club.fr
SUMMARY:Meeting les coxman du 77
DESCRIPTION:
URL:https://912club.fr/event/meeting-les-coxman-du-77/
CATEGORIES:Évènements autres clubs
END:VEVENT
END:VCALENDAR