BEGIN:VCALENDAR
VERSION:2.0
PRODID:-//912club.fr - ECPv6.2.6//NONSGML v1.0//EN
CALSCALE:GREGORIAN
METHOD:PUBLISH
X-ORIGINAL-URL:https://912club.fr
X-WR-CALDESC:évènements pour 912club.fr
REFRESH-INTERVAL;VALUE=DURATION:PT1H
X-Robots-Tag:noindex
X-PUBLISHED-TTL:PT1H
BEGIN:VTIMEZONE
TZID:Europe/Paris
BEGIN:DAYLIGHT
TZOFFSETFROM:+0100
TZOFFSETTO:+0200
TZNAME:CEST
DTSTART:20230326T010000
END:DAYLIGHT
BEGIN:STANDARD
TZOFFSETFROM:+0200
TZOFFSETTO:+0100
TZNAME:CET
DTSTART:20231029T010000
END:STANDARD
END:VTIMEZONE
BEGIN:VEVENT
DTSTART;TZID=Europe/Paris:20230416T093000
DTEND;TZID=Europe/Paris:20230416T120000
DTSTAMP:20260423T003246
CREATED:20230403T200951Z
LAST-MODIFIED:20230403T201004Z
UID:29038-1681637400-1681646400@912club.fr
SUMMARY:Spring RDV
DESCRIPTION:On vous attends pour un car and Coffee non loin d’un Château a la bordure de la seine et marne . \n 
URL:https://912club.fr/event/spring-rdv/
CATEGORIES:Évènements 912club
ATTACH;FMTTYPE=image/jpeg:https://912club.fr/wp-content/uploads/2023/04/thumbnail_Exe_SpringRDV_2023.jpg
END:VEVENT
END:VCALENDAR