BEGIN:VCALENDAR
VERSION:2.0
PRODID:-//912club.fr - ECPv6.2.6//NONSGML v1.0//EN
CALSCALE:GREGORIAN
METHOD:PUBLISH
X-WR-CALNAME:912club.fr
X-ORIGINAL-URL:https://912club.fr
X-WR-CALDESC:évènements pour 912club.fr
REFRESH-INTERVAL;VALUE=DURATION:PT1H
X-Robots-Tag:noindex
X-PUBLISHED-TTL:PT1H
BEGIN:VTIMEZONE
TZID:Europe/Paris
BEGIN:DAYLIGHT
TZOFFSETFROM:+0100
TZOFFSETTO:+0200
TZNAME:CEST
DTSTART:20230326T010000
END:DAYLIGHT
BEGIN:STANDARD
TZOFFSETFROM:+0200
TZOFFSETTO:+0100
TZNAME:CET
DTSTART:20231029T010000
END:STANDARD
END:VTIMEZONE
BEGIN:VEVENT
DTSTART;TZID=Europe/Paris:20230212T090000
DTEND;TZID=Europe/Paris:20230212T120000
DTSTAMP:20260423T032516
CREATED:20230122T194050Z
LAST-MODIFIED:20230122T194050Z
UID:28890-1676192400-1676203200@912club.fr
SUMMARY:Winter rdv 2023
DESCRIPTION:
URL:https://912club.fr/event/winter-rdv-2023/
CATEGORIES:Évènements 912club
END:VEVENT
END:VCALENDAR