BEGIN:VCALENDAR
VERSION:2.0
PRODID:-//912club.fr - ECPv6.2.6//NONSGML v1.0//EN
CALSCALE:GREGORIAN
METHOD:PUBLISH
X-ORIGINAL-URL:https://912club.fr
X-WR-CALDESC:évènements pour 912club.fr
REFRESH-INTERVAL;VALUE=DURATION:PT1H
X-Robots-Tag:noindex
X-PUBLISHED-TTL:PT1H
BEGIN:VTIMEZONE
TZID:Europe/Paris
BEGIN:DAYLIGHT
TZOFFSETFROM:+0100
TZOFFSETTO:+0200
TZNAME:CEST
DTSTART:20210328T010000
END:DAYLIGHT
BEGIN:STANDARD
TZOFFSETFROM:+0200
TZOFFSETTO:+0100
TZNAME:CET
DTSTART:20211031T010000
END:STANDARD
END:VTIMEZONE
BEGIN:VEVENT
DTSTART;TZID=Europe/Paris:20210627T100000
DTEND;TZID=Europe/Paris:20210627T170000
DTSTAMP:20260424T140624
CREATED:20210606T195443Z
LAST-MODIFIED:20210620T175459Z
UID:27474-1624788000-1624813200@912club.fr
SUMMARY:The wall
DESCRIPTION:  \n  \nAprès Paris\, Ride Anyways arrive à Hossegor avec un nouvel évent : The Wall ! \nRendez-vous le 27 juin pour participer à un rassemblement unique en son genre. \n  \nsource: \nhttps://magazine.les-allies.com/the-wall-ride-anyways-arrive-a-hossegor/ \n 
URL:https://912club.fr/event/the-wall/
LOCATION:hossegor\, hossegor\, France
CATEGORIES:Évènements autres clubs
ATTACH;FMTTYPE=image/jpeg:https://912club.fr/wp-content/uploads/2021/06/171289105_3907916679296332_3297348638695371978_n.jpg
END:VEVENT
END:VCALENDAR