BEGIN:VCALENDAR
VERSION:2.0
PRODID:-//912club.fr - ECPv6.2.6//NONSGML v1.0//EN
CALSCALE:GREGORIAN
METHOD:PUBLISH
X-ORIGINAL-URL:https://912club.fr
X-WR-CALDESC:évènements pour 912club.fr
REFRESH-INTERVAL;VALUE=DURATION:PT1H
X-Robots-Tag:noindex
X-PUBLISHED-TTL:PT1H
BEGIN:VTIMEZONE
TZID:Europe/Paris
BEGIN:DAYLIGHT
TZOFFSETFROM:+0100
TZOFFSETTO:+0200
TZNAME:CEST
DTSTART:20200329T010000
END:DAYLIGHT
BEGIN:STANDARD
TZOFFSETFROM:+0200
TZOFFSETTO:+0100
TZNAME:CET
DTSTART:20201025T010000
END:STANDARD
END:VTIMEZONE
BEGIN:VEVENT
DTSTART;TZID=Europe/Paris:20200205T080000
DTEND;TZID=Europe/Paris:20200209T170000
DTSTAMP:20260425T165224
CREATED:20191208T161138Z
LAST-MODIFIED:20191208T161138Z
UID:26016-1580889600-1581267600@912club.fr
SUMMARY:RETROMOBILE 2020
DESCRIPTION:En 2020\, le salon Rétromobile célébrera son 45ème anniversaire… rendez-vous du 5 au 9 février à Paris au parc des expositions de la porte de versailles !
URL:https://912club.fr/event/retromobile-2020/
CATEGORIES:Évènements autres clubs,Salons & expositions
ATTACH;FMTTYPE=image/jpeg:https://912club.fr/wp-content/uploads/2019/12/Rétromobile-2020-couv.jpg
END:VEVENT
END:VCALENDAR