BEGIN:VCALENDAR
VERSION:2.0
PRODID:-//912club.fr - ECPv6.2.6//NONSGML v1.0//EN
CALSCALE:GREGORIAN
METHOD:PUBLISH
X-WR-CALNAME:912club.fr
X-ORIGINAL-URL:https://912club.fr
X-WR-CALDESC:évènements pour 912club.fr
REFRESH-INTERVAL;VALUE=DURATION:PT1H
X-Robots-Tag:noindex
X-PUBLISHED-TTL:PT1H
BEGIN:VTIMEZONE
TZID:Europe/Paris
BEGIN:DAYLIGHT
TZOFFSETFROM:+0100
TZOFFSETTO:+0200
TZNAME:CEST
DTSTART:20150329T010000
END:DAYLIGHT
BEGIN:STANDARD
TZOFFSETFROM:+0200
TZOFFSETTO:+0100
TZNAME:CET
DTSTART:20151025T010000
END:STANDARD
BEGIN:DAYLIGHT
TZOFFSETFROM:+0100
TZOFFSETTO:+0200
TZNAME:CEST
DTSTART:20160327T010000
END:DAYLIGHT
BEGIN:STANDARD
TZOFFSETFROM:+0200
TZOFFSETTO:+0100
TZNAME:CET
DTSTART:20161030T010000
END:STANDARD
TZID:Europe/Paris
BEGIN:DAYLIGHT
TZOFFSETFROM:+0100
TZOFFSETTO:+0200
TZNAME:CEST
DTSTART:20140330T010000
END:DAYLIGHT
BEGIN:STANDARD
TZOFFSETFROM:+0200
TZOFFSETTO:+0100
TZNAME:CET
DTSTART:20141026T010000
END:STANDARD
END:VTIMEZONE
BEGIN:VEVENT
DTSTART;TZID=Europe/Paris:20160418T100000
DTEND;TZID=Europe/Paris:20160424T180000
DTSTAMP:20260420T073353
CREATED:20160110T115421Z
LAST-MODIFIED:20160127T214343Z
UID:8343-1460973600-1461520800@912club.fr
SUMMARY:Tour Auto 2016
DESCRIPTION:Le Tour Auto 2016 se déroulera de Paris à la Côte d’Azur du 18 au 24 avril prochains. Au menu : l’exposition au Grand Palais mais aussi un final surprenant ! \n  \nLes amoureux de voitures anciennes peuvent d’ores et déjà réserver leur semaine ! Le Tour Auto 2016 se tiendra du 18 au 24 avril. Et comme de coutume\, l’événement débutera par une grande exposition sous la verrière du Grand Palais\, à Paris\, où les 240 concurrents attendus se soumettront aux vérifications techniques et aux formalités administratives d’usage. Le lendemain\, tous ces passionnés quitteront la capitale pour se lancer à l’assaut des routes et des circuits de France. \nle Programme: \n\n(lundi 20 avril) : GRAND PALAIS (Paris)(Contrôles techniques et administratifs)\n1ère étape (mardi 21 avril) : PARIS – VICHY (épreuves spéciales + Circuit de Magny-Cours)\n2ème étape (mercredi 22 avril) : VICHY – CLERMONT-FERRAND (épreuves spéciales + Circuit de Charade)\n3ème étape (jeudi 23 avril) : CLERMONT-FERRAND – TOULOUSE (épreuves spéciales + Circuit d’Albi)\n4ème étape (vendredi 24 avril) : TOULOUSE – PAU (épreuves spéciales)\n5ème étape (samedi 25 avril) : PAU – BIARRITZ (épreuves spéciales + Circuit de Pau-Arnos\n\n  \nUn final inédit !\nDu classique\, certes\, mais pas seulement puisque pour cette 25ème édition\, la société organisatrice Peter Auto nous a réservé une jolie surprise. Le parcours\, annoncé comme inédit mais pas encore dévoilé (il le sera très prochainement\, NDLR)\, se terminera en effet sous les étoiles\, par « une ronde de nuit sur des routes de rallye réputées de l’arrière-pays azuréen ». \nNotons également que parmi les voitures mises à l’honneur lors de cette édition figureront notamment les Ferrari 250 GT Belinetta\, Jaguar MK II 3.8L\, Ligier JS2 et Matra MS 650… Vivement le printemps ! \nToutes les infos ici: \nTour Auto
URL:https://912club.fr/event/tour-auto-2016/
CATEGORIES:Compétitions historiques,Salons & expositions
ATTACH;FMTTYPE=image/jpeg:https://912club.fr/wp-content/uploads/2016/01/08268684-photo-tour-auto-2016-cinq-etapes-de-paris-a-cannes-video.jpg
END:VEVENT
BEGIN:VEVENT
DTSTART;TZID=Europe/Paris:20160417T070000
DTEND;TZID=Europe/Paris:20160417T180000
DTSTAMP:20260420T073353
CREATED:20160327T105132Z
LAST-MODIFIED:20160327T105132Z
UID:10613-1460876400-1460916000@912club.fr
SUMMARY:Les anciennes à Montlhéry
DESCRIPTION:Les voitures de tourisme et sportives des années 50-60-70 évolueront dans des séries de roulage libre au cours de la journée sur le grand circuit de Linas Montlhéry sans notion de compétition. \nDes groupes de 30 voitures réparties en fonction des puissances et efficacités seront constitués. \nLes véhicules seront vérifiés sur place de façon à assurer une sécurité optimale pour l’ensemble des participants. \nCeintures et casques obligatoires\, un passager accepté (16 ans minimum). Anneaux de remorquage avant et arrières recommandés. \n95dB maxi et Drift interdit. Participation limitée à 90 véhicules (modèles dont la série est sortie avant 1980). \nPour vous inscrire vous avez deux possibilités : \n\nEn utilisant le bulletin d’inscription papier habituel à imprimer et à renvoyer par courrier BImonthlery2016\nEn utilisant l’inscription en ligne disponible ici *préférable pour les paiements par virement ou par PayPal (pas d’envoi de courrier nécessaire) – Avant de commencer munissez vous des photos ou scans de votre permis de conduire et d’une attestation de votre assureur qui stipule que votre couverture responsabilité civile est applicable sur un circuit hors compétition et chronométrage.
URL:https://912club.fr/event/les-anciennes-a-montlhery/
LOCATION:autodrome linas montlhery\, Av. Georges Boillot\, linas\, 91310\, France
CATEGORIES:Évènements autres clubs
ATTACH;FMTTYPE=image/jpeg:https://912club.fr/wp-content/uploads/2016/03/SCCT-à-Montlhéry.jpg
END:VEVENT
BEGIN:VEVENT
DTSTART;TZID=Europe/Paris:20160410T080000
DTEND;TZID=Europe/Paris:20160410T180000
DTSTAMP:20260420T073353
CREATED:20160322T191956Z
LAST-MODIFIED:20160411T180529Z
UID:10494-1460275200-1460311200@912club.fr
SUMMARY:Luftgekühlt 2016
DESCRIPTION:  \n\nGET READY: LUFTGEKÜHLT\, 4/10/16. LOS ANGELES.\n\n\n\n\n\n\n\nJust a few days ago\, we made a “save the date” announcement at @deusemporium Venice. Our buddy Butch Walker and HIS buddy Pink surprised our attendees with a live performance\, and we announced our support for the Autumn Leaves Project\, a charity for pancreatic cancer research Butch founded in honor of his Dad. Good times had by all\, and lots of anticipation for what’s shaping up to be our coolest event yet\, April 10th. Special thanks to @ktchndtla for the food\, @the_macallan for the whiskey\, and @805beer for the beers! \n\n\nood\, @the_macallan for the whiskey\, and @805beer for the beers! \n\n\n\n\n\n\n\n\n\n\n\n\n\n\n\n\n\n\n\n\n\n\n\n\n\n\n\n\n\n\n\n\n\n\n\nLast Thursday at Deus Ex Mechanica\, in Venice California\, during a gathering of early supporters for Patrick Long and Howie Idelson’s Luftgekühlt\, it was announced that the 3rd annual show will take place on April 10\, 2016 « at a very special location in downtown LA ». While the venue remains to be revealed\, you can rest assured it will be set up as spectacular as the last two shows and be something any Porsche fan won’t want to miss.\n\n\nAPRIL 10\, 2016 – 9AM\nMODERNICA\, 2891 SACO ST.\, VERNON\, CA
URL:https://912club.fr/event/luftgekuhlt-2016/
CATEGORIES:Évènements autres clubs
ATTACH;FMTTYPE=image/jpeg:https://912club.fr/wp-content/uploads/2016/04/944913_1023046057779674_2594886672388916602_n.jpg
END:VEVENT
BEGIN:VEVENT
DTSTART;TZID=Europe/Paris:20160317T090000
DTEND;TZID=Europe/Paris:20160320T180000
DTSTAMP:20260420T073353
CREATED:20151220T140147Z
LAST-MODIFIED:20151220T140147Z
UID:8036-1458205200-1458496800@912club.fr
SUMMARY:Retro Classics 2016
DESCRIPTION:Le salon des voitures de collection\ndu 17 au 20 mars 2016\n\n\n\n\n\n\n\n\n\n\nLe salon présente sur une surface de 110 000 m² des pièces rares\, des curiosités et des vrais trésors de l’histoire de l’automobile – des modèles d’avant-guerre aux futurs Classic Cars en passant par les vétérans\, les légendes de course ou encore les américaines. Autour de 1 500 exposants attendent près de 87000 visiteurs et 800 journalistes de 20 pays. \nLe salon RETRO CLASSICS ® est le rendez-vous incontournable des fans de voitures et motos anciennes.\nIl réunit à la fois des fans\, des collectionneurs et des vendeurs venus de tous les pays du monde. La majorité des véhicules proposés à Stuttgart trouve acheteur.\nMais le salon fait également le bonheur des amateurs des légendes de courses automobiles\, des voitures de luxe d’hier et des classiques de demain. En plus\, on y trouve des véhicules utilitaires historiques\, des limousines américaines et une large palette d’accessoires et de vêtements.
URL:https://912club.fr/event/retro-classics-2016/
LOCATION:Eingang Ost et Eingang West\, stuttgart\, Allemagne
CATEGORIES:Salons & expositions
ATTACH;FMTTYPE=image/jpeg:https://912club.fr/wp-content/uploads/2015/12/Logo.jpg
END:VEVENT
BEGIN:VEVENT
DTSTART;TZID=Europe/Paris:20160203T100000
DTEND;TZID=Europe/Paris:20160207T190000
DTSTAMP:20260420T073353
CREATED:20151220T102814Z
LAST-MODIFIED:20151220T115215Z
UID:7996-1454493600-1454871600@912club.fr
SUMMARY:Retromobile 2016
DESCRIPTION:Prenez date\, votre rendez-vous annuel tant attendu approche. \n\n\nLes pavillons 1 et 2.2. abriteront des trésors automobiles pour le plus grand bonheur des 120 000 hommes et femmes attendus du monde entier. L’inédit\, l’extraordinaire et l’inattendu se disputeront la vedette\, mais c’est la passion qui sera le dénominateur commun de cette 41ème édition. En ces temps moroses\, venez voyager dans le temps ou assouvir votre passion. Rêver\, s’extasier\, s’informer\, investir\, aller à la rencontre des artistes\, constructeurs\, clubs\, fédérations\, vendeurs de pièces détachées et de miniatures\, restaurateurs\, marchands d’automobile : tout est permis à Rétromobile. \n \nUN ÉVÉNEMENT D’ENVERGURE INTERNATIONALE A PARIS. LE PREMIER SALON DE LA SAISON POUR LES AMOUREUX DE VOITURES ANCIENNES. \n\nDu mercredi 3 au dimanche 7 février 2016\, au Parc des expositions de la Porte de Versailles\n(1 place de la Porte de Versailles 75015 Paris) \nLe salon se tiendra dans les pavillons 1 et 2.2. \nVOUS DÉCOUVRIREZ SUR LE SALON RETROMOBILE\n\nDes constructeurs\nDes clubs et fédérations\nDes organisateurs d’événements\nDes médias\nDes marchands d’automobilia\nDes marchands de pièces détachées et l’outillage\nDes marchands de véhicules\nDes maisons de ventes aux enchères\nDes restaurateurs carrossiers\nDes restaurateurs mécaniciens\nDes assureurs\nDes galeries d’art automobile\n\n\nHORAIRES DU SALON RÉTROMOBILE\n\nMercredi 3 février 2016 : 10h-22h\nJeudi 4 février 2016 : 10h-19h\nVendredi 5 février 2016 : 10h-22h\nSamedi 6 février 2016 : 10h-19h\nDimanche 7 février 2016 : 10h-19h\n\n\n\n\n\n\n\n\n\n\n\nRÉTROMOBILE : L’ÉVÉNEMENT QUI FAIT DE PARIS LA CAPITALE DE L’AUTOMOBILE DE COLLECTION\nRétromobile est le salon des passionnés\, curieux ou amateurs de voitures anciennes : plus de 500 véhicules exposés\, 500 exposants\, 120 clubs\, 45 artistes réunis dans la « Galerie d’Art Automobile » et de nombreuses animations exclusives. \nLE PREMIER SALON DE LA SAISON POUR LES AMOUREUX DE VOITURE ANCIENNES\nVenez voyager dans le temps ou vivre votre passion. Rêver\, s’extasier\, s’informer\, investir\, aller à la rencontre des artistes\, clubs et fédérations\, libraires\, organisateurs de rallyes\, vendeurs de pièces détachées et de miniatures\, restaurateurs\, marchands d’automobile\, maisons de ventes aux enchères\, restaurateurs mécaniciens\, assureurs\, constructeurs : Bentley\, Bugatti\, BMW\, Mercedes\, Porsche\, Ferrari\, Citroën\, Peugeot\, Renault\, Lancia\, Alfa Roméo\, Skoda… \nDES EXPOSITIONS ET ANIMATIONS EXCLUSIVES\nLes expos présentées aux visiteurs ont fait de Rétromobile un salon d’Exception : des voitures de Maharadjas\, en passant par l’aventure humaine du Dakar\, l’animation dédiée à la Grande Guerre avec un tronçon de la Voie Sacrée recréé de toute pièce ! les Alpine de Jean Rédélé\, l’expo consacré à Roland Garros\, la majestueuse Locomotive Seguin\, ou encore l’innovant Fardier Cugnot… chaque année les expositions de Rétromobile sont une nouvelle occasion de découvrir ou redécouvrir des modèles et des collections de véhicules exceptionnels\, des animations dynamiques mettant en scène des véhicules mythiques. \nVENTES AUX ENCHÈRES DE VOITURES DE COLLECTION\nEvénement de renommée internationale\, Rétromobile est aussi le catalyseur qui fédère les trois leaders mondiaux des ventes aux enchères\, dont Artcurial qui a signé une vente record de 46 millions d’euros. \nRétromobile du 3 au 7 février 2016 au Parc des expositions de la Porte de Versailles. \n 
URL:https://912club.fr/event/retromobile-2016/
LOCATION:porte de versailles\, 1 place de la porte de Versailles \, paris \, 75015\, France
CATEGORIES:Salons & expositions
ATTACH;FMTTYPE=image/jpeg:https://912club.fr/wp-content/uploads/2015/12/ic_large_w900h600q100_retromobile-2016.jpg
END:VEVENT
BEGIN:VEVENT
DTSTART;TZID=Europe/Paris:20160110T080000
DTEND;TZID=Europe/Paris:20160110T160000
DTSTAMP:20260420T073353
CREATED:20151220T100008Z
LAST-MODIFIED:20151220T115403Z
UID:7993-1452412800-1452441600@912club.fr
SUMMARY:Traversée de paris 2016
DESCRIPTION:La Traversée de Paris en Anciennes revient dimanche 10 janvier 2016\, pour une folle virée dans la capitale : organisée par Vincennes en Anciennes\, la traversée réunira 700 véhicules anciens qui partiront de Vincennes pour plus de 28km dans la capitale\, et mettra les femmes à l’honneur ! \n\nDimanche 10 janvier 2016\, il ne faut louper la Traversée de Paris en anciennes\, l’un des rendez-vous incontournables de la capitale. Pendant toute une matinée\, les rues de Paris vont s’animer au son des véhicules – voitures\, bus à plateforme\, motos – pour une traversée déjantée qui se terminera par une exposition sur l’esplanade du Château de Vincennes. \n\n\nAu départ du Château de Vincennes\, le cortège de passionnés invite petits et grands à prendre part à un spectacle inédit au coeur du patrimoine parisien dans l’un des bus à plateforme participant\, ou bien dans les rues sélectionnées pour la balade : au départ de Château de Vincennes\, le cortège passera Place de la Bastille\, Place de la République\, Basilique du Sacré-Cœur\, Place de la Concorde\, Place Charles de Gaulle – Etoile pour revenir au Château de Vincennes.\n\nUne trentaine de kilomètres lors desquels les passants et amateurs pourront prendre des photos\, mais aussi monter dans des autobus anciens (places limitées). Cette année\, les femmes seront à l’honneur dans le cortège\, avec un groupe « Elles en anciennes ». \nToutes les époques sont représentées\, la Rolls côtoie la 2CV\, et les bruits de moteurs nous entraînent dans une autre époque !\nA partir de midi\, les passionnés peuvent retrouver des voitures au Château de Vincennes pour partager leur passion pour les véhicules anciens avec les équipages et profiter de la vue pour dialoguer avec les amateurs de voitures anciennes. A cette occasion\, un foulard en soie (série limitée) a été créé par Valérie LeSport et sera commercialisé au prix de 95! par la boutique de l’association. \nLa nostalgie est au coin de la rue\, la joie et la surprise s’affichent sur les visages. La communion entre équipages et public est totale… \n\n\n  \nInfos pratiques :\nLa Traversée de Paris\nDimanche 10 janvier 2016\nLieu : départ et arrivée à l’Esplanade du Château de Vincennes\,\nHoraires : Traversée de Paris 8h-12h – exposition 12h-16h\nTarifs : 5€ pour une place en bus
URL:https://912club.fr/event/traversee-de-paris-2016/
CATEGORIES:Évènements autres clubs
ATTACH;FMTTYPE=image/jpeg:https://912club.fr/wp-content/uploads/2015/12/Affiche_TdP_Hiver_2016_Red.jpg
END:VEVENT
BEGIN:VEVENT
DTSTART;TZID=Europe/Paris:20151010T090000
DTEND;TZID=Europe/Paris:20151011T190000
DTSTAMP:20260420T073353
CREATED:20151220T113624Z
LAST-MODIFIED:20151220T113624Z
UID:8012-1444467600-1444590000@912club.fr
SUMMARY:Automedon 2015
DESCRIPTION:Rendez-vous est donné les 10 et 11 octobre pour l’édition 2015 d’Automédon\, rendez-vous incontournable des amateurs de véhicules anciens.\n  \n \nPour cette 15ème édition\, pas moins de 9 podiums retraceront l’histoire de la compétition à travers son patrimoine. Une centaine de clubs seront présents\, ainsi que 250 exposants\, le tout sur 20.000 m2 en intérieur\, et 30.000 m2 en extérieur.\nA l’honneur cette année à Automedon\, les voitures françaises qui se sont illustrées lors des « Grands Prix »\, avant même la Formule 1. Gladiator de 1911\, Delahaye 135 de 1939\, Delage 8 cylindres de 1935\, Talbot Lago 8 cylindres de 1939 ou encore Bugatti 35/51 pilotée par Maurice Trintignant\, toutes seront de la partie ! \nHots-rods\, motos\, Simca…\nDécouvrez également grâce au Club Simca de France\, les voitures les plus rares siglées Simca\, des voitures de course à mécanique Simca ou encore celles préparées par de grands carrossiers tels que Figoni\, Facel Metallon ou encore Henri Chapron avec la célèbre « Présidence décapotable » du Général de Gaulle ! \nParmi les autres moments forts de 2015\, les 60 ans de la Ford Thunderbird\, une exposition de Hot-Rods\, parmi les plus beaux du monde dont un coupé Ford 32 classé Best of Show à Las Vegas en 2013. Et comme chaque année\, pour les amateurs de motos\, l’exposition « Motorama »\, avec plus de 200 modèles historiques exposés ! \nPodiums d’exposition\npodium 1 : Grand Prix et monoplaces de course \npodiums 2\, 3 et 4 : 80 ans  de la marque SIMCA. Voitures Simca et dérivés tourisme\,  GT et compétition (CLUB SIMCA FRANCE)   \npodium 5 : Rods\, une nouvelle sélection de 6 voitures de show exceptionnelles (France Street Rods Association) \npodium 6 : 60 ans de la Ford Thunderbird avec NITRO MAGAZINE et les clubs US. \npodium 7 : rétrospective DUCATI (Performance DUCATI club de France) \npodiums 8 et 9 : les Anglaises. 20 ans du  Club Triton France (avec les clubs Norton\, Triumph\, Velocette\, Vincent\,  BSA\,  Royal Enfield\, etc..). \npodium 10 : les Championnes du Bol d’OR – 1927/2014 avec Gerald Motos
URL:https://912club.fr/event/automedon-2015/
LOCATION:Paris Le Bourget Parc d’Expositions\, 96 Avenue de la Division Leclerc\, le bourget\, 93350
CATEGORIES:Salons & expositions
END:VEVENT
BEGIN:VEVENT
DTSTART;TZID=Europe/Paris:20140227T190000
DTEND;TZID=Europe/Paris:20140227T210000
DTSTAMP:20260420T073353
CREATED:20140211T103422Z
LAST-MODIFIED:20140211T103422Z
UID:3465-1393527600-1393534800@912club.fr
SUMMARY:RDV 912 #3
DESCRIPTION:Que diriez vous d’un petit verre sur Paris histoire de parler boulons et embrayage ?\nSauf affluence record\, il y a de quoi garer sa monture devant le café !
URL:https://912club.fr/event/rdv-912-3/
LOCATION:Auto Passion Café\, 197 Bld Brune\, Paris\, 75014\, France
CATEGORIES:Évènements 912club
ATTACH;FMTTYPE=image/jpeg:https://912club.fr/wp-content/uploads/2014/02/LesRDV91231.jpg
ORGANIZER;CN="912club":MAILTO:info@912club.fr
END:VEVENT
END:VCALENDAR