BEGIN:VCALENDAR
VERSION:2.0
PRODID:-//912club.fr - ECPv6.2.6//NONSGML v1.0//EN
CALSCALE:GREGORIAN
METHOD:PUBLISH
X-ORIGINAL-URL:https://912club.fr
X-WR-CALDESC:évènements pour 912club.fr
REFRESH-INTERVAL;VALUE=DURATION:PT1H
X-Robots-Tag:noindex
X-PUBLISHED-TTL:PT1H
BEGIN:VTIMEZONE
TZID:Europe/Paris
BEGIN:DAYLIGHT
TZOFFSETFROM:+0100
TZOFFSETTO:+0200
TZNAME:CEST
DTSTART:20140330T010000
END:DAYLIGHT
BEGIN:STANDARD
TZOFFSETFROM:+0200
TZOFFSETTO:+0100
TZNAME:CET
DTSTART:20141026T010000
END:STANDARD
END:VTIMEZONE
BEGIN:VEVENT
DTSTART;VALUE=DATE:20140912
DTEND;VALUE=DATE:20140915
DTSTAMP:20260421T142442
CREATED:20140211T125817Z
LAST-MODIFIED:20140211T125817Z
UID:3478-1410480000-1410739199@912club.fr
SUMMARY:Goodwood Revival 2014
DESCRIPTION:The Goodwood Revival really is a magical step back in time\, a unique chance to revel in the glamour and allure of motor racing in the romantic time capsule of the world’s most authentic motor circuit. \nThe Revival is the world’s most popular historic motor race meeting and the only event of its kind to be staged entirely in the nostalgic time capsule of the 1940s\, 50s and 60s. \nThe Revival offers visitors the opportunity to leave the ‘modern world’ behind and join motor sport luminaries including Sir Stirling Moss\, Richard Attwood\, John Surtees and Derek Bell in an unabashed celebration of flat-out\, wheel-to-wheel racing around a classic racetrack\, untouched by the modern world. \n 
URL:https://912club.fr/event/goodwood-revival-2014/
LOCATION:Goodwood Estate\, Chichester\, PO18 0PX\, United Kingdom
CATEGORIES:Compétitions historiques,Salons & expositions
ATTACH;FMTTYPE=image/jpeg:https://912club.fr/wp-content/uploads/2014/02/goodwood-20141.jpg
END:VEVENT
END:VCALENDAR