BEGIN:VCALENDAR
VERSION:2.0
PRODID:-//912club.fr - ECPv6.2.6//NONSGML v1.0//EN
CALSCALE:GREGORIAN
METHOD:PUBLISH
X-ORIGINAL-URL:https://912club.fr
X-WR-CALDESC:évènements pour 912club.fr
REFRESH-INTERVAL;VALUE=DURATION:PT1H
X-Robots-Tag:noindex
X-PUBLISHED-TTL:PT1H
BEGIN:VTIMEZONE
TZID:Europe/Paris
BEGIN:DAYLIGHT
TZOFFSETFROM:+0100
TZOFFSETTO:+0200
TZNAME:CEST
DTSTART:20220327T010000
END:DAYLIGHT
BEGIN:STANDARD
TZOFFSETFROM:+0200
TZOFFSETTO:+0100
TZNAME:CET
DTSTART:20221030T010000
END:STANDARD
END:VTIMEZONE
BEGIN:VEVENT
DTSTART;TZID=Europe/Paris:20220605T090000
DTEND;TZID=Europe/Paris:20220605T120000
DTSTAMP:20260423T161444
CREATED:20220522T144602Z
LAST-MODIFIED:20220522T144602Z
UID:28442-1654419600-1654430400@912club.fr
SUMMARY:Outlaw park
DESCRIPTION:rendez vous en ile de france le 5 juin 2022\, lieu  donné  48h avant .
URL:https://912club.fr/event/outlaw-park/
CATEGORIES:Évènements autres clubs
ATTACH;FMTTYPE=image/jpeg:https://912club.fr/wp-content/uploads/2022/05/thumbnail_OLP2022.jpg
END:VEVENT
END:VCALENDAR