BEGIN:VCALENDAR
VERSION:2.0
PRODID:-//912club.fr - ECPv6.2.6//NONSGML v1.0//EN
CALSCALE:GREGORIAN
METHOD:PUBLISH
X-WR-CALNAME:912club.fr
X-ORIGINAL-URL:https://912club.fr
X-WR-CALDESC:évènements pour 912club.fr
REFRESH-INTERVAL;VALUE=DURATION:PT1H
X-Robots-Tag:noindex
X-PUBLISHED-TTL:PT1H
BEGIN:VTIMEZONE
TZID:Europe/Paris
BEGIN:DAYLIGHT
TZOFFSETFROM:+0100
TZOFFSETTO:+0200
TZNAME:CEST
DTSTART:20210328T010000
END:DAYLIGHT
BEGIN:STANDARD
TZOFFSETFROM:+0200
TZOFFSETTO:+0100
TZNAME:CET
DTSTART:20211031T010000
END:STANDARD
END:VTIMEZONE
BEGIN:VEVENT
DTSTART;TZID=Europe/Paris:20211030T083000
DTEND;TZID=Europe/Paris:20211030T170000
DTSTAMP:20260424T085328
CREATED:20211027T173657Z
LAST-MODIFIED:20211027T173756Z
UID:27865-1635582600-1635613200@912club.fr
SUMMARY:TRACKDAY 2
DESCRIPTION:Poser votre auto sur circuit\, ça vous tente ?\nNous privatisons le circuit des Ecuyers le 30 Octobre 2021 pour une journée de TrackDay entre passionnés !\nAlors rejoignez les pilotes déjà inscrits à cette journée et passez une journée entre personnes partageant la même passion que vous !\nInfos et Réservations -> 06 60 08 95 67 / parisianscars@gmail.com\nEn espérant vous y voir !
URL:https://912club.fr/event/tracday-2/
CATEGORIES:Évènements autres clubs
ATTACH;FMTTYPE=image/jpeg:https://912club.fr/wp-content/uploads/2021/10/244684156_179557290990857_2199011395243631943_n.jpg
END:VEVENT
END:VCALENDAR