BEGIN:VCALENDAR
VERSION:2.0
PRODID:-//912club.fr - ECPv6.2.6//NONSGML v1.0//EN
CALSCALE:GREGORIAN
METHOD:PUBLISH
X-WR-CALNAME:912club.fr
X-ORIGINAL-URL:https://912club.fr
X-WR-CALDESC:évènements pour 912club.fr
REFRESH-INTERVAL;VALUE=DURATION:PT1H
X-Robots-Tag:noindex
X-PUBLISHED-TTL:PT1H
BEGIN:VTIMEZONE
TZID:Europe/Paris
BEGIN:DAYLIGHT
TZOFFSETFROM:+0100
TZOFFSETTO:+0200
TZNAME:CEST
DTSTART:20210328T010000
END:DAYLIGHT
BEGIN:STANDARD
TZOFFSETFROM:+0200
TZOFFSETTO:+0100
TZNAME:CET
DTSTART:20211031T010000
END:STANDARD
END:VTIMEZONE
BEGIN:VEVENT
DTSTART;TZID=Europe/Paris:20211008T080000
DTEND;TZID=Europe/Paris:20211010T170000
DTSTAMP:20260424T085335
CREATED:20210725T143757Z
LAST-MODIFIED:20210725T183416Z
UID:27625-1633680000-1633885200@912club.fr
SUMMARY:Paradis Porsche st Tropez
DESCRIPTION:  \n« A ce jour\, le 27ème Paradis Porsche de Saint-Tropez aura bien lieu. Il sera placé sous le signe de la Covid-19.\nLe virus circulant toujours\, il est impératif de rester vigilant face à cette épidémie. A cet effet\, la prise de température\, le port du masque\, l’alcool hydro alcoolique et la distanciation physique seront obligatoires sur le Parc. \nCe doit être l’engagement et le respect de chacun d’entre nous\, participants et visiteurs. \nSeules les soirées aux « Caves du Roy » sont annulées\, les discothèques étant toujours fermées. \nPeu de Porsche de couleur verte ? Vous\, qui osez la couleur\, êtes attendus pour éclairer le Parc du Paradis Porsche. \nHeureux propriétaires de cabriolets\, en cette fin d’été\, nous vous proposons un week-end Porsche exceptionnel sous la lumière\, une conduite « à ciel ouvert » dont nous rêvons toutes & tous après cette longue période de confinement. \nQuelques places sur le parc sont encore disponibles… Ne tardez plus. \nChères & Chers Porschistes\, que ce soit en Cabriolet\, Targa ou Coupé\, quel que soit votre point de départ\, oubliez la vie terrestre le temps d’un week-end\, venez nous retrouver les 9\, 10 et 11 octobre 2020 pour ce 27ème Paradis Porsche à Saint-Tropez. \nInformations & Inscriptions en ligne sur notre site : www.mediterranee-porscheclub.fr «  \nL’Equipe d’Organisation.
URL:https://912club.fr/event/paradis-porsche-st-tropez/
CATEGORIES:Évènements autres clubs,Salons & expositions
ATTACH;FMTTYPE=image/jpeg:https://912club.fr/wp-content/uploads/2021/07/219886470_4572928842729888_2677248112223043060_n.jpg
END:VEVENT
END:VCALENDAR