BEGIN:VCALENDAR
VERSION:2.0
PRODID:-//912club.fr - ECPv6.2.6//NONSGML v1.0//EN
CALSCALE:GREGORIAN
METHOD:PUBLISH
X-ORIGINAL-URL:https://912club.fr
X-WR-CALDESC:évènements pour 912club.fr
REFRESH-INTERVAL;VALUE=DURATION:PT1H
X-Robots-Tag:noindex
X-PUBLISHED-TTL:PT1H
BEGIN:VTIMEZONE
TZID:Europe/Paris
BEGIN:DAYLIGHT
TZOFFSETFROM:+0100
TZOFFSETTO:+0200
TZNAME:CEST
DTSTART:20210328T010000
END:DAYLIGHT
BEGIN:STANDARD
TZOFFSETFROM:+0200
TZOFFSETTO:+0100
TZNAME:CET
DTSTART:20211031T010000
END:STANDARD
END:VTIMEZONE
BEGIN:VEVENT
DTSTART;TZID=Europe/Paris:20210702T080000
DTEND;TZID=Europe/Paris:20210704T170000
DTSTAMP:20260424T140621
CREATED:20200129T175309Z
LAST-MODIFIED:20200129T175309Z
UID:26247-1625212800-1625418000@912club.fr
SUMMARY:European Bug in 9
DESCRIPTION:
URL:https://912club.fr/event/european-bug-in-9/
LOCATION:chimay centre\, chimay\, 6460\, Belgique
CATEGORIES:Évènements autres clubs
ATTACH;FMTTYPE=image/png:https://912club.fr/wp-content/uploads/2020/01/téléchargement.png
END:VEVENT
END:VCALENDAR