BEGIN:VCALENDAR
VERSION:2.0
PRODID:-//912club.fr - ECPv6.2.6//NONSGML v1.0//EN
CALSCALE:GREGORIAN
METHOD:PUBLISH
X-WR-CALNAME:912club.fr
X-ORIGINAL-URL:https://912club.fr
X-WR-CALDESC:évènements pour 912club.fr
REFRESH-INTERVAL;VALUE=DURATION:PT1H
X-Robots-Tag:noindex
X-PUBLISHED-TTL:PT1H
BEGIN:VTIMEZONE
TZID:Europe/Paris
BEGIN:DAYLIGHT
TZOFFSETFROM:+0100
TZOFFSETTO:+0200
TZNAME:CEST
DTSTART:20190331T010000
END:DAYLIGHT
BEGIN:STANDARD
TZOFFSETFROM:+0200
TZOFFSETTO:+0100
TZNAME:CET
DTSTART:20191027T010000
END:STANDARD
END:VTIMEZONE
BEGIN:VEVENT
DTSTART;TZID=Europe/Paris:20191116T080000
DTEND;TZID=Europe/Paris:20191118T170000
DTSTAMP:20260425T232502
CREATED:20190821T201319Z
LAST-MODIFIED:20190821T201319Z
UID:25485-1573891200-1574096400@912club.fr
SUMMARY:Interclassics Brussels
DESCRIPTION:La cinquième édition d’InterClassics Brussels rend hommage à cinq des principaux designers automobiles de tous les temps. Une collection unique de modèles classiques dessinés par Pininfarina\, Bertone\, Zagato\, Touring et Ghia sera exposée du 15 au 17 novembre 2019 inclus au Heyzel lors d’InterClassics Brussels à Brussels Expo. L’histoire de ces « great Italian designers » sera illustrée au travers de plusieurs classiques uniques. Quelques véhicules de chaque designer seront présentés\, dont leurs modèles les plus typiques\, exclusifs et emblématiques. Une attention toute particulière sera assurément accordée à la Zagato construite en 1919 qui fête ses 100 ans cette année. \nOutre le thème principal\, le centième anniversaire de Bentley sera également mis à l’honneur lors du salon. Un siècle de Bentley : 100 années extraordinaires\, une performance qui mérite d’être célébrée comme il se doit ! En 1919\, Walter Owen Bentley a créé une entreprise ayant un simple but : construire « une voiture rapide et de qualité\, la meilleure de sa catégorie ». Ce principe directeur est resté le moteur de Bentley. La première voiture de la marque a été dévoilée en octobre 1919 au London Motor Show. Ce lancement a poussé Bentley à aller plus loin\, jusqu’à devenir un acteur essentiel du secteur des véhicules de luxe dans le monde entier. Lors d’InterClassics Brussels 2019\, une collection exceptionnelle de pièces maîtresses créées au cours de ces 100 dernières années sera présentée en collaboration avec Bentley Belgium. \n\nJours d’exposition: du vendredi au dimanche\n\n\n\nEn Ligne: €15\,00 pour les adultes\nÁ la caisse: €17.50 pour les adultes\ngratuit jusqu’á 12 ans\n\n\n€ 15\,00 – ONLINE
URL:https://912club.fr/event/interclassics-brussels/
CATEGORIES:Évènements autres clubs
ATTACH;FMTTYPE=image/jpeg:https://912club.fr/wp-content/uploads/2019/08/IMG_3827.jpg
END:VEVENT
END:VCALENDAR