BEGIN:VCALENDAR
VERSION:2.0
PRODID:-//912club.fr - ECPv6.2.6//NONSGML v1.0//EN
CALSCALE:GREGORIAN
METHOD:PUBLISH
X-WR-CALNAME:912club.fr
X-ORIGINAL-URL:http://912club.fr
X-WR-CALDESC:évènements pour 912club.fr
REFRESH-INTERVAL;VALUE=DURATION:PT1H
X-Robots-Tag:noindex
X-PUBLISHED-TTL:PT1H
BEGIN:VTIMEZONE
TZID:Europe/Paris
BEGIN:DAYLIGHT
TZOFFSETFROM:+0100
TZOFFSETTO:+0200
TZNAME:CEST
DTSTART:20140330T010000
END:DAYLIGHT
BEGIN:STANDARD
TZOFFSETFROM:+0200
TZOFFSETTO:+0100
TZNAME:CET
DTSTART:20141026T010000
END:STANDARD
END:VTIMEZONE
BEGIN:VEVENT
DTSTART;VALUE=DATE:20140523
DTEND;VALUE=DATE:20140526
DTSTAMP:20260422T140822
CREATED:20140211T121056Z
LAST-MODIFIED:20140211T121056Z
UID:3473-1400803200-1401062399@912club.fr
SUMMARY:Aix'treme Show
DESCRIPTION:Pour cette 6ème édition\, des surprises\, toujours plein d’animations\, des stands pro seront présents\, ambiance des années 50/60\, concert de rock\, défilé de bikinis!!!!!!\, bmx\, top 10\, cruising avec arrêt au belvédère qui surplombe le Lac du Bourget\, le plus grand Lac naturel de France\, doté d’une grande biodiversité!!
URL:http://912club.fr/event/aixtreme-show/
LOCATION:Esplanade du Lac\, Aix-les-Bains\, France
CATEGORIES:Évènements autres clubs
ATTACH;FMTTYPE=image/jpeg:http://912club.fr/wp-content/uploads/2014/02/aixtrem_show1.jpg
END:VEVENT
BEGIN:VEVENT
DTSTART;TZID=Europe/Paris:20140227T190000
DTEND;TZID=Europe/Paris:20140227T210000
DTSTAMP:20260422T140822
CREATED:20140211T103422Z
LAST-MODIFIED:20140211T103422Z
UID:3465-1393527600-1393534800@912club.fr
SUMMARY:RDV 912 #3
DESCRIPTION:Que diriez vous d’un petit verre sur Paris histoire de parler boulons et embrayage ?\nSauf affluence record\, il y a de quoi garer sa monture devant le café !
URL:http://912club.fr/event/rdv-912-3/
LOCATION:Auto Passion Café\, 197 Bld Brune\, Paris\, 75014\, France
CATEGORIES:Évènements 912club
ATTACH;FMTTYPE=image/jpeg:http://912club.fr/wp-content/uploads/2014/02/LesRDV91231.jpg
ORGANIZER;CN="912club":MAILTO:info@912club.fr
END:VEVENT
END:VCALENDAR